BEGIN:VCALENDAR
VERSION:2.0
PRODID:-//Marina Itajaí - ECPv6.15.20//NONSGML v1.0//EN
CALSCALE:GREGORIAN
METHOD:PUBLISH
X-ORIGINAL-URL:https://www.marinaitajai.com
X-WR-CALDESC:Eventos para Marina Itajaí
REFRESH-INTERVAL;VALUE=DURATION:PT1H
X-Robots-Tag:noindex
X-PUBLISHED-TTL:PT1H
BEGIN:VTIMEZONE
TZID:America/Sao_Paulo
BEGIN:STANDARD
TZOFFSETFROM:-0300
TZOFFSETTO:-0300
TZNAME:-03
DTSTART:20230101T000000
END:STANDARD
END:VTIMEZONE
BEGIN:VEVENT
DTSTART;TZID=America/Sao_Paulo:20240704T130000
DTEND;TZID=America/Sao_Paulo:20240707T210000
DTSTAMP:20260426T012738
CREATED:20240301T120051Z
LAST-MODIFIED:20240411T171419Z
UID:4378-1720098000-1720386000@www.marinaitajai.com
SUMMARY:Marina Itajaí Boat Show
DESCRIPTION:
URL:https://www.marinaitajai.com/evento/marina-itajai-boat-show-2/
LOCATION:Marina Itajaí\, Av. Carlos Ely Castro\, 100 - Centro\, Itajaí\, Santa Catarina\, 88301-445\, Brasil
END:VEVENT
BEGIN:VEVENT
DTSTART;VALUE=DATE:20240720
DTEND;VALUE=DATE:20240721
DTSTAMP:20260426T012738
CREATED:20240625T125158Z
LAST-MODIFIED:20240625T125158Z
UID:4453-1721433600-1721519999@www.marinaitajai.com
SUMMARY:Regata Balneário Camboriú - 3ª etapa Circuito Marina Itajaí
DESCRIPTION:
URL:https://www.marinaitajai.com/evento/regata-balneario-camboriu-3a-etapa-circuito-marina-itajai/
LOCATION:Marina Itajaí\, Av. Carlos Ely Castro\, 100 - Centro\, Itajaí\, Santa Catarina\, 88301-445\, Brasil
ORGANIZER;CN="Marina Itaja%C3%AD":MAILTO:marketing@marinaitajai.com
END:VEVENT
BEGIN:VEVENT
DTSTART;VALUE=DATE:20240824
DTEND;VALUE=DATE:20240825
DTSTAMP:20260426T012738
CREATED:20240206T164209Z
LAST-MODIFIED:20240311T165105Z
UID:4356-1724457600-1724543999@www.marinaitajai.com
SUMMARY:Circuito Marina Itajaí - 4ª Etapa
DESCRIPTION:Festival Náutico de Navegantes – Inscrição gratuita
URL:https://www.marinaitajai.com/evento/circuito-marina-itajai-4a-etapa/
LOCATION:Marina Itajaí\, Av. Carlos Ely Castro\, 100 - Centro\, Itajaí\, Santa Catarina\, 88301-445\, Brasil
END:VEVENT
BEGIN:VEVENT
DTSTART;TZID=America/Sao_Paulo:20240922T130000
DTEND;TZID=America/Sao_Paulo:20240922T170000
DTSTAMP:20260426T012738
CREATED:20240910T124744Z
LAST-MODIFIED:20240910T124744Z
UID:4499-1727010000-1727024400@www.marinaitajai.com
SUMMARY:Bela da Praia 2024
DESCRIPTION:
URL:https://www.marinaitajai.com/evento/bela-da-praia-2024/
LOCATION:Marina Itajaí\, Av. Carlos Ely Castro\, 100 - Centro\, Itajaí\, Santa Catarina\, 88301-445\, Brasil
END:VEVENT
BEGIN:VEVENT
DTSTART;TZID=America/Sao_Paulo:20241003T080000
DTEND;TZID=America/Sao_Paulo:20241020T170000
DTSTAMP:20260426T012738
CREATED:20240206T165052Z
LAST-MODIFIED:20240206T165052Z
UID:4363-1727942400-1729443600@www.marinaitajai.com
SUMMARY:Marejada
DESCRIPTION:
URL:https://www.marinaitajai.com/evento/marejada/
LOCATION:Centreventos Itajaí\, Av. Min. Victor Konder\, 303\, Itajaí\, Santa Catarina\, 88301-701\, Brasil
END:VEVENT
BEGIN:VEVENT
DTSTART;VALUE=DATE:20241019
DTEND;VALUE=DATE:20241021
DTSTAMP:20260426T012738
CREATED:20240206T164458Z
LAST-MODIFIED:20241015T190236Z
UID:4360-1729296000-1729468799@www.marinaitajai.com
SUMMARY:Circuito Marina Itajaí - Etapa Final
DESCRIPTION:19/10 -> Regata Florianópolis -> Itajaí \n20/10 – > Regata Marina Itajaí Marejada \nLocal: Itajaí \nPremiação para os vencedores do Circuito Marina Itajaí no Centreventos
URL:https://www.marinaitajai.com/evento/circuito-marina-itajai-etapa-final/
LOCATION:Centreventos Itajaí\, Av. Min. Victor Konder\, 303\, Itajaí\, Santa Catarina\, 88301-701\, Brasil
ORGANIZER;CN="Marina Itaja%C3%AD":MAILTO:marketing@marinaitajai.com
END:VEVENT
BEGIN:VEVENT
DTSTART;VALUE=DATE:20241201
DTEND;VALUE=DATE:20241202
DTSTAMP:20260426T012738
CREATED:20241113T182812Z
LAST-MODIFIED:20241113T182812Z
UID:4526-1733011200-1733097599@www.marinaitajai.com
SUMMARY:Bela da Praia 2024
DESCRIPTION:
URL:https://www.marinaitajai.com/evento/bela-da-praia-2024-2/
LOCATION:Marina Itajaí\, Av. Carlos Ely Castro\, 100 - Centro\, Itajaí\, Santa Catarina\, 88301-445\, Brasil
END:VEVENT
BEGIN:VEVENT
DTSTART;TZID=America/Sao_Paulo:20250528T080000
DTEND;TZID=America/Sao_Paulo:20250528T170000
DTSTAMP:20260426T012738
CREATED:20250528T181307Z
LAST-MODIFIED:20250528T181307Z
UID:5046-1748419200-1748451600@www.marinaitajai.com
SUMMARY:Regata travessia Florianópolis a Itajaí
DESCRIPTION:
URL:https://www.marinaitajai.com/evento/regata-travessia-florianopolis-a-itajai/
LOCATION:Santa Catarina
END:VEVENT
BEGIN:VEVENT
DTSTART;TZID=America/Sao_Paulo:20250531T073000
DTEND;TZID=America/Sao_Paulo:20250531T120000
DTSTAMP:20260426T012738
CREATED:20250528T174529Z
LAST-MODIFIED:20250528T175424Z
UID:5026-1748676600-1748692800@www.marinaitajai.com
SUMMARY:Juntos pelo Rio
DESCRIPTION:O evento Juntos Pelo Rio é um mutirão ambiental realizado anualmente em Itajaí\, Santa Catarina\, com o objetivo de promover a limpeza dos rios e áreas costeiras\, além de conscientizar a população sobre a importância da preservação ambiental e o combate ao mosquito Aedes aegypti. A 12ª edição está programada para o dia 31 de maio de 2025\, das 8h às 12h\, marcando a abertura da Semana do Meio Ambiente na cidade. \nO principal foco do evento é a remoção de resíduos sólidos das margens dos rios Itajaí-Açu e Itajaí-Mirim\, bem como de áreas como a Baía Afonso Wippel\, Beira-Rio\, Molhes e Praia do Atalaia. Voluntários atuam tanto por terra quanto por água\, utilizando embarcações para alcançar locais de difícil acesso. Além da limpeza\, o evento inclui ações educativas\, como oficinas de educação ambiental e blitzes informativas sobre a prevenção da dengue. \nOs interessados em participar devem se inscrever previamente\, escolhendo um dos pontos de check-in: Marina Itajaí\, Molhe da Praia do Atalaia ou Itamirim Clube de Campo. No local\, os voluntários recebem um kit contendo camiseta\, luvas descartáveis e saco de lixo\, além de protetor solar e repelente. Todos os participantes recebem certificado de participação ao final do evento.
URL:https://www.marinaitajai.com/evento/juntos-pelo-rio-3/
LOCATION:Santa Catarina
END:VEVENT
BEGIN:VEVENT
DTSTART;TZID=America/Sao_Paulo:20250601T063000
DTEND;TZID=America/Sao_Paulo:20250601T120000
DTSTAMP:20260426T012738
CREATED:20250528T175208Z
LAST-MODIFIED:20250528T175208Z
UID:5029-1748759400-1748779200@www.marinaitajai.com
SUMMARY:Meia Maratona de itajai
DESCRIPTION:A 21K Meia de Itajaí 2025 é uma das corridas mais aguardadas do calendário esportivo catarinense. Organizada pela DTO Sports\, a prova acontece no dia 1º de junho de 2025\, com largada na Marina Itajaí\, oferecendo percursos de 5 km\, 10 km e 21 km. \nApós quatro anos de pausa\, a Meia Maratona retorna com um percurso inédito\, plano e rápido\, ideal tanto para iniciantes quanto para atletas que buscam melhorar seus tempos. A corrida é uma celebração do aniversário da cidade de Itajaí\, combinando esporte\, turismo e cultura local.
URL:https://www.marinaitajai.com/evento/meia-maratona-de-itajai/
LOCATION:Marina Itajaí\, Av. Carlos Ely Castro\, 100 - Centro\, Itajaí\, Santa Catarina\, 88301-445\, Brasil
END:VEVENT
BEGIN:VEVENT
DTSTART;VALUE=DATE:20250614
DTEND;VALUE=DATE:20250615
DTSTAMP:20260426T012738
CREATED:20250528T180331Z
LAST-MODIFIED:20250528T180331Z
UID:5035-1749859200-1749945599@www.marinaitajai.com
SUMMARY:Segunda etapa do Circuito de Vela Marina Itajaí 2025
DESCRIPTION:O Circuito de Regatas Marina Itajaí 2025 é o maior evento de vela do Sul do Brasil\, reunindo mais de 500 velejadores e 100 embarcações ao longo de seis etapas distribuídas entre fevereiro e outubro. Organizado pela Marina Itajaí\, o circuito percorre diversas cidades catarinenses\, como Balneário Camboriú\, Navegantes e Florianópolis\, promovendo o esporte náutico e fomentando o turismo regional. Esta segunda etapa será em comemoração ao aniversario de Itajaí.
URL:https://www.marinaitajai.com/evento/segunda-etapa-do-circuito-de-vela-marina-itajai-2025/
LOCATION:Marina Itajaí\, Av. Carlos Ely Castro\, 100 - Centro\, Itajaí\, Santa Catarina\, 88301-445\, Brasil
ORGANIZER;CN="Marina Itaja%C3%AD":MAILTO:marketing@marinaitajai.com
END:VEVENT
BEGIN:VEVENT
DTSTART;VALUE=DATE:20250619
DTEND;VALUE=DATE:20250620
DTSTAMP:20260426T012738
CREATED:20250528T180909Z
LAST-MODIFIED:20250528T181044Z
UID:5040-1750291200-1750377599@www.marinaitajai.com
SUMMARY:Terceira etapa do Circuito de Vela Marina Itajaí 2025
DESCRIPTION:O Circuito de Regatas Marina Itajaí 2025 é o maior evento de vela do Sul do Brasil\, reunindo mais de 500 velejadores e 100 embarcações ao longo de seis etapas distribuídas entre fevereiro e outubro. Organizado pela Marina Itajaí\, o circuito percorre diversas cidades catarinenses\, como Balneário Camboriú\, Navegantes e Florianópolis\, promovendo o esporte náutico e fomentando o turismo regional. Esta terceira etapa será em comemoração ao aniversario de Balneário Camboriú. \n 
URL:https://www.marinaitajai.com/evento/terceira-etapa-do-circuito-de-vela-marina-itajai-2025/
LOCATION:Marina Itajaí\, Av. Carlos Ely Castro\, 100 - Centro\, Itajaí\, Santa Catarina\, 88301-445\, Brasil
ORGANIZER;CN="Marina Itaja%C3%AD":MAILTO:marketing@marinaitajai.com
END:VEVENT
BEGIN:VEVENT
DTSTART;VALUE=DATE:20250703
DTEND;VALUE=DATE:20250707
DTSTAMP:20260426T012738
CREATED:20250528T180736Z
LAST-MODIFIED:20250528T180736Z
UID:5038-1751500800-1751846399@www.marinaitajai.com
SUMMARY:Marina Itajaí Boat Show 2025
DESCRIPTION:O Marina Itajaí Boat Show 2025 é a terceira edição do maior evento náutico do Sul do Brasil\, que acontecerá de 3 a 6 de julho de 2025 na Marina Itajaí\, localizada na Avenida Carlos Ely Castro\, 100\, no centro de Itajaí\, Santa Catarina. \nDestaques do Evento\n\n\nExposição de Embarcações: Mais de 70 embarcações estarão em exibição\, incluindo lanchas\, iates\, jets e barcos de alto desempenho\, com cerca de metade delas ancoradas na água. Jornal de Brasília+1Revista Sucesso S/A+1 \n\n\nShopping Náutico Flutuante: O evento contará com o único shopping náutico 100% flutuante do Brasil\, instalado sobre as águas da Baía Afonso Wippel. Este espaço abrigará estandes de acessórios\, motores\, peças\, sistemas de navegação\, itens de decoração\, mobiliário e serviços especializados voltados ao universo marítimo. Jornal de Brasília \n\n\nTest Drives e Experiências Interativas: Os visitantes terão a oportunidade de realizar test drives em embarcações e participar de experiências náuticas interativas\, explorando as mais recentes inovações do setor. Itajaí Boat Show 2025 \n\n\nEspaço Gastronômico Sofisticado: O evento oferecerá um espaço gastronômico com opções variadas\, proporcionando uma experiência completa aos participantes. \n\n\nHorários de Funcionamento\n\n\nQuinta e Sexta-feira: 14h às 21h \n\n\nSábado: 11h às 21h \n\n\nDomingo: 11h às 20h \n\n\n\n\nOs ingressos já estão disponíveis para compra no site oficial do evento: itajaiboatshow.com.br. O site também fornece informações sobre como chegar ao local\, opções de hospedagem e detalhes para expositores interessados em participar. \nO Marina Itajaí Boat Show 2025 é uma excelente oportunidade para entusiastas da náutica\, profissionais do setor e o público em geral conhecerem as últimas tendências e inovações do mercado náutico\, além de desfrutar de uma experiência única em um ambiente integrado à água.
URL:https://www.marinaitajai.com/evento/marina-itajai-boat-show-2025/
LOCATION:Marina Itajaí\, Av. Carlos Ely Castro\, 100 - Centro\, Itajaí\, Santa Catarina\, 88301-445\, Brasil
END:VEVENT
BEGIN:VEVENT
DTSTART;VALUE=DATE:20250823
DTEND;VALUE=DATE:20250824
DTSTAMP:20260426T012738
CREATED:20250528T181235Z
LAST-MODIFIED:20250528T181235Z
UID:5044-1755907200-1755993599@www.marinaitajai.com
SUMMARY:Quarta etapa do Circuito de Vela Marina Itajaí 2025
DESCRIPTION:O Circuito de Regatas Marina Itajaí 2025 é o maior evento de vela do Sul do Brasil\, reunindo mais de 500 velejadores e 100 embarcações ao longo de seis etapas distribuídas entre fevereiro e outubro. Organizado pela Marina Itajaí\, o circuito percorre diversas cidades catarinenses\, como Balneário Camboriú\, Navegantes e Florianópolis\, promovendo o esporte náutico e fomentando o turismo regional. Esta quarta etapa fará parte do  Festival náutico de navegantes em comemoração ao aniversario da cidade.\n.
URL:https://www.marinaitajai.com/evento/quarta-etapa-do-circuito-de-vela-marina-itajai-2025/
LOCATION:Marina Itajaí\, Av. Carlos Ely Castro\, 100 - Centro\, Itajaí\, Santa Catarina\, 88301-445\, Brasil
ORGANIZER;CN="Marina Itaja%C3%AD":MAILTO:marketing@marinaitajai.com
END:VEVENT
BEGIN:VEVENT
DTSTART;VALUE=DATE:20250927
DTEND;VALUE=DATE:20250928
DTSTAMP:20260426T012738
CREATED:20250528T181641Z
LAST-MODIFIED:20250528T181641Z
UID:5048-1758931200-1759017599@www.marinaitajai.com
SUMMARY:Regata travessia Florianópolis a Itajaí
DESCRIPTION:
URL:https://www.marinaitajai.com/evento/regata-travessia-florianopolis-a-itajai-2/
LOCATION:Marina Itajaí\, Av. Carlos Ely Castro\, 100 - Centro\, Itajaí\, Santa Catarina\, 88301-445\, Brasil
ORGANIZER;CN="Marina Itaja%C3%AD":MAILTO:marketing@marinaitajai.com
END:VEVENT
BEGIN:VEVENT
DTSTART;VALUE=DATE:20250928
DTEND;VALUE=DATE:20251004
DTSTAMP:20260426T012738
CREATED:20250528T181920Z
LAST-MODIFIED:20250528T181920Z
UID:5050-1759017600-1759535999@www.marinaitajai.com
SUMMARY:1ª semana de vela Marina Itajaí
DESCRIPTION:
URL:https://www.marinaitajai.com/evento/1a-semana-de-vela-marina-itajai/
LOCATION:Marina Itajaí\, Av. Carlos Ely Castro\, 100 - Centro\, Itajaí\, Santa Catarina\, 88301-445\, Brasil
ORGANIZER;CN="Marina Itaja%C3%AD":MAILTO:marketing@marinaitajai.com
END:VEVENT
BEGIN:VEVENT
DTSTART;VALUE=DATE:20251004
DTEND;VALUE=DATE:20251005
DTSTAMP:20260426T012738
CREATED:20250528T182919Z
LAST-MODIFIED:20250528T182919Z
UID:5052-1759536000-1759622399@www.marinaitajai.com
SUMMARY:Quinta etapa do Circuito de Vela Marina Itajaí 2025
DESCRIPTION:O Circuito de Regatas Marina Itajaí 2025 é o maior evento de vela do Sul do Brasil\, reunindo mais de 500 velejadores e 100 embarcações ao longo de seis etapas distribuídas entre fevereiro e outubro. Organizado pela Marina Itajaí\, o circuito percorre diversas cidades catarinenses\, como Balneário Camboriú\, Navegantes e Florianópolis\, promovendo o esporte náutico e fomentando o turismo regional. Esta quinta etapa será em comemoração a Marejada.
URL:https://www.marinaitajai.com/evento/quinta-etapa-do-circuito-de-vela-marina-itajai-2025/
LOCATION:Marina Itajaí\, Av. Carlos Ely Castro\, 100 - Centro\, Itajaí\, Santa Catarina\, 88301-445\, Brasil
ORGANIZER;CN="Marina Itaja%C3%AD":MAILTO:marketing@marinaitajai.com
END:VEVENT
BEGIN:VEVENT
DTSTART;VALUE=DATE:20251018
DTEND;VALUE=DATE:20251019
DTSTAMP:20260426T012738
CREATED:20250528T183035Z
LAST-MODIFIED:20250528T183035Z
UID:5054-1760745600-1760831999@www.marinaitajai.com
SUMMARY:Mutirão de limpeza da 6ª semana lixo zero
DESCRIPTION:A Semana Lixo Zero é um evento anual de mobilização social que ocorre em diversas cidades do Brasil e de países da América Latina\, geralmente na última semana de outubro. Coordenada pelo Instituto Lixo Zero Brasil\, a iniciativa visa promover a conscientização sobre o consumo responsável e a gestão adequada de resíduos\, incentivando práticas que minimizem ou eliminem a geração de lixo.
URL:https://www.marinaitajai.com/evento/mutirao-de-limpeza-da-6a-semana-lixo-zero/
LOCATION:Marina Itajaí\, Av. Carlos Ely Castro\, 100 - Centro\, Itajaí\, Santa Catarina\, 88301-445\, Brasil
ORGANIZER;CN="Marina Itaja%C3%AD":MAILTO:marketing@marinaitajai.com
END:VEVENT
END:VCALENDAR